BEGIN:VCALENDAR
VERSION:2.0
PRODID:-//Watsco Center - ECPv6.15.13.1//NONSGML v1.0//EN
CALSCALE:GREGORIAN
METHOD:PUBLISH
X-WR-CALNAME:Watsco Center
X-ORIGINAL-URL:https://watscocenter.com
X-WR-CALDESC:Events for Watsco Center
REFRESH-INTERVAL;VALUE=DURATION:PT1H
X-Robots-Tag:noindex
X-PUBLISHED-TTL:PT1H
BEGIN:VTIMEZONE
TZID:UTC
BEGIN:STANDARD
TZOFFSETFROM:+0000
TZOFFSETTO:+0000
TZNAME:UTC
DTSTART:20150101T000000
END:STANDARD
END:VTIMEZONE
BEGIN:VEVENT
DTSTART;TZID=UTC:20161202T190000
DTEND;TZID=UTC:20161202T190000
DTSTAMP:20260421T130242
CREATED:20161104T223018Z
LAST-MODIFIED:20161104T225333Z
UID:2610-1480705200-1480705200@watscocenter.com
SUMMARY:Titan FC 42
DESCRIPTION:
URL:https://watscocenter.com/event/titan-fc-42/
LOCATION:Fieldhouse Watsco Center\, 1245 Dauer Drive\, Coral Gables\, FL\, 33146
CATEGORIES:MMA
ATTACH;FMTTYPE=image/jpeg:https://watscocenter.com/wp-content/uploads/2016/11/titan-42-1600.jpg
END:VEVENT
END:VCALENDAR