BEGIN:VCALENDAR
VERSION:2.0
PRODID:-//Watsco Center - ECPv6.15.13.1//NONSGML v1.0//EN
CALSCALE:GREGORIAN
METHOD:PUBLISH
X-WR-CALNAME:Watsco Center
X-ORIGINAL-URL:https://watscocenter.com
X-WR-CALDESC:Events for Watsco Center
REFRESH-INTERVAL;VALUE=DURATION:PT1H
X-Robots-Tag:noindex
X-PUBLISHED-TTL:PT1H
BEGIN:VTIMEZONE
TZID:UTC
BEGIN:STANDARD
TZOFFSETFROM:+0000
TZOFFSETTO:+0000
TZNAME:UTC
DTSTART:20150101T000000
END:STANDARD
END:VTIMEZONE
BEGIN:VEVENT
DTSTART;TZID=UTC:20161220T150000
DTEND;TZID=UTC:20161220T150000
DTSTAMP:20260421T072124
CREATED:20161104T214437Z
LAST-MODIFIED:20161109T230558Z
UID:2595-1482246000-1482246000@watscocenter.com
SUMMARY:Coppin State vs. East Tennessee State/Maine (Miami Holiday Tournament)
DESCRIPTION:
URL:https://watscocenter.com/event/coppin-state-vs-east-tennessee-statemaine-miami-holiday-tournament/
LOCATION:Watsco Center\, 1245 Dauer Drive \, Miami\, FL\, 33146\, United States
CATEGORIES:Tournaments
ATTACH;FMTTYPE=image/jpeg:https://watscocenter.com/wp-content/uploads/2016/11/website.jpg
END:VEVENT
BEGIN:VEVENT
DTSTART;TZID=UTC:20161220T170000
DTEND;TZID=UTC:20161220T170000
DTSTAMP:20260421T072124
CREATED:20161104T203125Z
LAST-MODIFIED:20161109T230458Z
UID:2538-1482253200-1482253200@watscocenter.com
SUMMARY:East Tennessee State/Maine
DESCRIPTION:
URL:https://watscocenter.com/event/east-tennessee-statemaine/
LOCATION:Watsco Center\, 1245 Dauer Drive \, Miami\, FL\, 33146\, United States
CATEGORIES:Tournaments
ATTACH;FMTTYPE=image/jpeg:https://watscocenter.com/wp-content/uploads/2016/11/website.jpg
END:VEVENT
END:VCALENDAR