BEGIN:VCALENDAR
VERSION:2.0
PRODID:-//Watsco Center - ECPv6.15.13.1//NONSGML v1.0//EN
CALSCALE:GREGORIAN
METHOD:PUBLISH
X-WR-CALNAME:Watsco Center
X-ORIGINAL-URL:https://watscocenter.com
X-WR-CALDESC:Events for Watsco Center
REFRESH-INTERVAL;VALUE=DURATION:PT1H
X-Robots-Tag:noindex
X-PUBLISHED-TTL:PT1H
BEGIN:VTIMEZONE
TZID:UTC
BEGIN:STANDARD
TZOFFSETFROM:+0000
TZOFFSETTO:+0000
TZNAME:UTC
DTSTART:20210101T000000
END:STANDARD
END:VTIMEZONE
BEGIN:VEVENT
DTSTART;TZID=UTC:20220202T190000
DTEND;TZID=UTC:20220202T210000
DTSTAMP:20260424T012210
CREATED:20211001T181042Z
LAST-MODIFIED:20211001T181042Z
UID:4457-1643828400-1643835600@watscocenter.com
SUMMARY:UM Men's Basketball vs. Notre Dame
DESCRIPTION:
URL:https://watscocenter.com/event/um-mens-basketball-vs-notre-dame-2/
LOCATION:Watsco Center\, 1245 Dauer Drive \, Miami\, FL\, 33146\, United States
CATEGORIES:College Basketball
ATTACH;FMTTYPE=image/jpeg:https://watscocenter.com/wp-content/uploads/2020/12/Home-.jpg
END:VEVENT
BEGIN:VEVENT
DTSTART;TZID=UTC:20220203T190000
DTEND;TZID=UTC:20220203T220000
DTSTAMP:20260424T012210
CREATED:20211001T185202Z
LAST-MODIFIED:20211001T185202Z
UID:4491-1643914800-1643925600@watscocenter.com
SUMMARY:UM Women's Basketball vs. Syracuse
DESCRIPTION:
URL:https://watscocenter.com/event/um-womens-basketball-vs-syracuse-4/
LOCATION:Watsco Center\, 1245 Dauer Drive \, Miami\, FL\, 33146\, United States
CATEGORIES:College Basketball
ATTACH;FMTTYPE=image/jpeg:https://watscocenter.com/wp-content/uploads/2020/12/Home-.jpg
END:VEVENT
BEGIN:VEVENT
DTSTART;TZID=UTC:20220209T190000
DTEND;TZID=UTC:20220209T210000
DTSTAMP:20260424T012210
CREATED:20211001T181207Z
LAST-MODIFIED:20211001T181207Z
UID:4459-1644433200-1644440400@watscocenter.com
SUMMARY:UM Men's Basketball vs. Georgia Tech
DESCRIPTION:
URL:https://watscocenter.com/event/um-mens-basketball-vs-georgia-tech-2/
LOCATION:Watsco Center\, 1245 Dauer Drive \, Miami\, FL\, 33146\, United States
CATEGORIES:College Basketball
ATTACH;FMTTYPE=image/jpeg:https://watscocenter.com/wp-content/uploads/2020/12/Home-.jpg
END:VEVENT
BEGIN:VEVENT
DTSTART;TZID=UTC:20220213T120000
DTEND;TZID=UTC:20220213T150000
DTSTAMP:20260424T012210
CREATED:20211001T185344Z
LAST-MODIFIED:20211001T185344Z
UID:4493-1644753600-1644764400@watscocenter.com
SUMMARY:UM Women's Basketball vs. Florida State
DESCRIPTION:
URL:https://watscocenter.com/event/um-womens-basketball-vs-florida-state-4/
LOCATION:Watsco Center\, 1245 Dauer Drive \, Miami\, FL\, 33146\, United States
CATEGORIES:College Basketball
ATTACH;FMTTYPE=image/jpeg:https://watscocenter.com/wp-content/uploads/2020/12/Home-.jpg
END:VEVENT
BEGIN:VEVENT
DTSTART;TZID=UTC:20220217T180000
DTEND;TZID=UTC:20220217T220000
DTSTAMP:20260424T012210
CREATED:20211001T185545Z
LAST-MODIFIED:20211001T185545Z
UID:4495-1645120800-1645135200@watscocenter.com
SUMMARY:UM Women's Basketball vs. Pittsburgh
DESCRIPTION:
URL:https://watscocenter.com/event/um-womens-basketball-vs-pittsburgh-3/
LOCATION:Watsco Center\, 1245 Dauer Drive \, Miami\, FL\, 33146\, United States
CATEGORIES:College Basketball
ATTACH;FMTTYPE=image/jpeg:https://watscocenter.com/wp-content/uploads/2020/12/Home-.jpg
END:VEVENT
BEGIN:VEVENT
DTSTART;TZID=UTC:20220219T170000
DTEND;TZID=UTC:20220219T200000
DTSTAMP:20260424T012210
CREATED:20211001T181402Z
LAST-MODIFIED:20211001T181402Z
UID:4461-1645290000-1645300800@watscocenter.com
SUMMARY:UM Men's Basketball vs. Virginia
DESCRIPTION:
URL:https://watscocenter.com/event/um-mens-basketball-vs-virginia-3/
LOCATION:Watsco Center\, 1245 Dauer Drive \, Miami\, FL\, 33146\, United States
CATEGORIES:College Basketball
ATTACH;FMTTYPE=image/jpeg:https://watscocenter.com/wp-content/uploads/2020/12/Home-.jpg
END:VEVENT
BEGIN:VEVENT
DTSTART;TZID=UTC:20220226T150000
DTEND;TZID=UTC:20220226T180000
DTSTAMP:20260424T012210
CREATED:20211001T181538Z
LAST-MODIFIED:20211001T181538Z
UID:4463-1645887600-1645898400@watscocenter.com
SUMMARY:UM Men's Basketball vs. Virginia Tech
DESCRIPTION:
URL:https://watscocenter.com/event/um-mens-basketball-vs-virginia-tech-4/
LOCATION:Watsco Center\, 1245 Dauer Drive \, Miami\, FL\, 33146\, United States
CATEGORIES:College Basketball
ATTACH;FMTTYPE=image/jpeg:https://watscocenter.com/wp-content/uploads/2020/12/Home-.jpg
END:VEVENT
BEGIN:VEVENT
DTSTART;TZID=UTC:20220227T163000
DTEND;TZID=UTC:20220227T183000
DTSTAMP:20260424T012210
CREATED:20211001T191106Z
LAST-MODIFIED:20211001T191106Z
UID:4497-1645979400-1645986600@watscocenter.com
SUMMARY:UM Women's Basketball vs. Clemson
DESCRIPTION:
URL:https://watscocenter.com/event/um-womens-basketball-vs-clemson-3/
LOCATION:Watsco Center\, 1245 Dauer Drive \, Miami\, FL\, 33146\, United States
CATEGORIES:College Basketball
ATTACH;FMTTYPE=image/jpeg:https://watscocenter.com/wp-content/uploads/2020/12/Home-.jpg
END:VEVENT
END:VCALENDAR