BEGIN:VCALENDAR
VERSION:2.0
PRODID:-//Watsco Center - ECPv6.15.13.1//NONSGML v1.0//EN
CALSCALE:GREGORIAN
METHOD:PUBLISH
X-ORIGINAL-URL:https://watscocenter.com
X-WR-CALDESC:Events for Watsco Center
REFRESH-INTERVAL;VALUE=DURATION:PT1H
X-Robots-Tag:noindex
X-PUBLISHED-TTL:PT1H
BEGIN:VTIMEZONE
TZID:America/Halifax
BEGIN:DAYLIGHT
TZOFFSETFROM:-0400
TZOFFSETTO:-0300
TZNAME:ADT
DTSTART:20210314T060000
END:DAYLIGHT
BEGIN:STANDARD
TZOFFSETFROM:-0300
TZOFFSETTO:-0400
TZNAME:AST
DTSTART:20211107T050000
END:STANDARD
BEGIN:DAYLIGHT
TZOFFSETFROM:-0400
TZOFFSETTO:-0300
TZNAME:ADT
DTSTART:20220313T060000
END:DAYLIGHT
BEGIN:STANDARD
TZOFFSETFROM:-0300
TZOFFSETTO:-0400
TZNAME:AST
DTSTART:20221106T050000
END:STANDARD
BEGIN:DAYLIGHT
TZOFFSETFROM:-0400
TZOFFSETTO:-0300
TZNAME:ADT
DTSTART:20230312T060000
END:DAYLIGHT
BEGIN:STANDARD
TZOFFSETFROM:-0300
TZOFFSETTO:-0400
TZNAME:AST
DTSTART:20231105T050000
END:STANDARD
END:VTIMEZONE
BEGIN:VEVENT
DTSTART;TZID=America/Halifax:20221201T210000
DTEND;TZID=America/Halifax:20221201T230000
DTSTAMP:20260422T212637
CREATED:20220920T193842Z
LAST-MODIFIED:20220929T143201Z
UID:4703-1669928400-1669935600@watscocenter.com
SUMMARY:UM Women's Basketball vs. Michigan
DESCRIPTION:
URL:https://watscocenter.com/event/um-womens-basketball-vs-michigan/
LOCATION:Watsco Center\, 1245 Dauer Drive \, Miami\, FL\, 33146\, United States
CATEGORIES:College Basketball
ATTACH;FMTTYPE=image/jpeg:https://watscocenter.com/wp-content/uploads/2020/12/Home-.jpg
END:VEVENT
BEGIN:VEVENT
DTSTART;TZID=America/Halifax:20221204T140000
DTEND;TZID=America/Halifax:20221204T160000
DTSTAMP:20260422T212637
CREATED:20220920T194134Z
LAST-MODIFIED:20220929T142753Z
UID:4705-1670162400-1670169600@watscocenter.com
SUMMARY:UM Women's Basketball vs. North Florida
DESCRIPTION:
URL:https://watscocenter.com/event/um-womens-basketball-vs-north-florida-3/
LOCATION:Watsco Center\, 1245 Dauer Drive \, Miami\, FL\, 33146\, United States
CATEGORIES:College Basketball
ATTACH;FMTTYPE=image/jpeg:https://watscocenter.com/wp-content/uploads/2020/12/Home-.jpg
END:VEVENT
BEGIN:VEVENT
DTSTART;TZID=America/Halifax:20221207T190000
DTEND;TZID=America/Halifax:20221207T210000
DTSTAMP:20260422T212637
CREATED:20220920T194506Z
LAST-MODIFIED:20220929T142719Z
UID:4707-1670439600-1670446800@watscocenter.com
SUMMARY:UM Men's Basketball vs. Cornell
DESCRIPTION:
URL:https://watscocenter.com/event/um-mens-basketball-vs-cornell/
LOCATION:Watsco Center\, 1245 Dauer Drive \, Miami\, FL\, 33146\, United States
CATEGORIES:College Basketball
ATTACH;FMTTYPE=image/jpeg:https://watscocenter.com/wp-content/uploads/2020/12/Home-.jpg
END:VEVENT
BEGIN:VEVENT
DTSTART;TZID=America/Halifax:20221210T140000
DTEND;TZID=America/Halifax:20221210T160000
DTSTAMP:20260422T212637
CREATED:20220920T195019Z
LAST-MODIFIED:20220929T142606Z
UID:4709-1670680800-1670688000@watscocenter.com
SUMMARY:UM Men's Basketball vs. NC State
DESCRIPTION:
URL:https://watscocenter.com/event/um-mens-basketball-vs-nc-state-3/
LOCATION:Watsco Center\, 1245 Dauer Drive \, Miami\, FL\, 33146\, United States
CATEGORIES:College Basketball
ATTACH;FMTTYPE=image/jpeg:https://watscocenter.com/wp-content/uploads/2020/12/Home-.jpg
END:VEVENT
BEGIN:VEVENT
DTSTART;TZID=America/Halifax:20221211T160000
DTEND;TZID=America/Halifax:20221211T180000
DTSTAMP:20260422T212637
CREATED:20220921T174008Z
LAST-MODIFIED:20220929T141725Z
UID:4711-1670774400-1670781600@watscocenter.com
SUMMARY:UM Women's Basketball vs. Florida
DESCRIPTION:
URL:https://watscocenter.com/event/um-womens-basketball-vs-florida/
LOCATION:Watsco Center\, 1245 Dauer Drive \, Miami\, FL\, 33146\, United States
CATEGORIES:College Basketball
ATTACH;FMTTYPE=image/jpeg:https://watscocenter.com/wp-content/uploads/2020/12/Home-.jpg
END:VEVENT
BEGIN:VEVENT
DTSTART;TZID=America/Halifax:20221217T120000
DTEND;TZID=America/Halifax:20221217T140000
DTSTAMP:20260422T212637
CREATED:20220921T175237Z
LAST-MODIFIED:20220929T141603Z
UID:4713-1671278400-1671285600@watscocenter.com
SUMMARY:UM Men's Basketball vs. St. Francis (PA)
DESCRIPTION:
URL:https://watscocenter.com/event/um-mens-basketball-vs-st-francis-pa/
LOCATION:Watsco Center\, 1245 Dauer Drive \, Miami\, FL\, 33146\, United States
CATEGORIES:College Basketball
ATTACH;FMTTYPE=image/jpeg:https://watscocenter.com/wp-content/uploads/2020/12/Home-.jpg
END:VEVENT
BEGIN:VEVENT
DTSTART;TZID=America/Halifax:20221220T203000
DTEND;TZID=America/Halifax:20221220T223000
DTSTAMP:20260422T212637
CREATED:20220921T175947Z
LAST-MODIFIED:20220929T141532Z
UID:4715-1671568200-1671575400@watscocenter.com
SUMMARY:UM Men's Basketball vs. Virginia
DESCRIPTION:
URL:https://watscocenter.com/event/um-mens-basketball-vs-virginia-4/
LOCATION:Watsco Center\, 1245 Dauer Drive \, Miami\, FL\, 33146\, United States
CATEGORIES:College Basketball
ATTACH;FMTTYPE=image/jpeg:https://watscocenter.com/wp-content/uploads/2020/12/Home-.jpg
END:VEVENT
BEGIN:VEVENT
DTSTART;TZID=America/Halifax:20221228T200000
DTEND;TZID=America/Halifax:20221228T220000
DTSTAMP:20260422T212637
CREATED:20220921T180208Z
LAST-MODIFIED:20220929T141453Z
UID:4717-1672257600-1672264800@watscocenter.com
SUMMARY:UM Men's Basketball vs. Vermont
DESCRIPTION:
URL:https://watscocenter.com/event/um-mens-basketball-vs-vermont/
LOCATION:Watsco Center\, 1245 Dauer Drive \, Miami\, FL\, 33146\, United States
CATEGORIES:College Basketball
ATTACH;FMTTYPE=image/jpeg:https://watscocenter.com/wp-content/uploads/2020/12/Home-.jpg
END:VEVENT
BEGIN:VEVENT
DTSTART;TZID=America/Halifax:20221229T180000
DTEND;TZID=America/Halifax:20221229T200000
DTSTAMP:20260422T212637
CREATED:20220921T180549Z
LAST-MODIFIED:20220929T141412Z
UID:4719-1672336800-1672344000@watscocenter.com
SUMMARY:UM Women's Basketball vs. Nortre Dame
DESCRIPTION:
URL:https://watscocenter.com/event/um-womens-basketball-vs-nortre-dame/
LOCATION:Watsco Center\, 1245 Dauer Drive \, Miami\, FL\, 33146\, United States
CATEGORIES:College Basketball
ATTACH;FMTTYPE=image/jpeg:https://watscocenter.com/wp-content/uploads/2020/12/Home-.jpg
END:VEVENT
END:VCALENDAR