BEGIN:VCALENDAR
VERSION:2.0
PRODID:-//Watsco Center - ECPv6.15.13.1//NONSGML v1.0//EN
CALSCALE:GREGORIAN
METHOD:PUBLISH
X-ORIGINAL-URL:https://watscocenter.com
X-WR-CALDESC:Events for Watsco Center
REFRESH-INTERVAL;VALUE=DURATION:PT1H
X-Robots-Tag:noindex
X-PUBLISHED-TTL:PT1H
BEGIN:VTIMEZONE
TZID:America/Halifax
BEGIN:DAYLIGHT
TZOFFSETFROM:-0400
TZOFFSETTO:-0300
TZNAME:ADT
DTSTART:20220313T060000
END:DAYLIGHT
BEGIN:STANDARD
TZOFFSETFROM:-0300
TZOFFSETTO:-0400
TZNAME:AST
DTSTART:20221106T050000
END:STANDARD
BEGIN:DAYLIGHT
TZOFFSETFROM:-0400
TZOFFSETTO:-0300
TZNAME:ADT
DTSTART:20230312T060000
END:DAYLIGHT
BEGIN:STANDARD
TZOFFSETFROM:-0300
TZOFFSETTO:-0400
TZNAME:AST
DTSTART:20231105T050000
END:STANDARD
BEGIN:DAYLIGHT
TZOFFSETFROM:-0400
TZOFFSETTO:-0300
TZNAME:ADT
DTSTART:20240310T060000
END:DAYLIGHT
BEGIN:STANDARD
TZOFFSETFROM:-0300
TZOFFSETTO:-0400
TZNAME:AST
DTSTART:20241103T050000
END:STANDARD
END:VTIMEZONE
BEGIN:VEVENT
DTSTART;TZID=America/Halifax:20230108T130000
DTEND;TZID=America/Halifax:20230108T150000
DTSTAMP:20260422T194103
CREATED:20220921T180832Z
LAST-MODIFIED:20220929T141339Z
UID:4721-1673182800-1673190000@watscocenter.com
SUMMARY:UM Women's Basketball vs. Virginia Tech
DESCRIPTION:
URL:https://watscocenter.com/event/um-womens-basketball-vs-virginia-tech-3/
LOCATION:Watsco Center\, 1245 Dauer Drive \, Miami\, FL\, 33146\, United States
CATEGORIES:College Basketball
ATTACH;FMTTYPE=image/jpeg:https://watscocenter.com/wp-content/uploads/2020/12/Home-.jpg
END:VEVENT
BEGIN:VEVENT
DTSTART;TZID=America/Halifax:20230111T190000
DTEND;TZID=America/Halifax:20230111T210000
DTSTAMP:20260422T194103
CREATED:20220921T181007Z
LAST-MODIFIED:20220929T141257Z
UID:4723-1673463600-1673470800@watscocenter.com
SUMMARY:UM Men's Basketball vs. Boston College
DESCRIPTION:
URL:https://watscocenter.com/event/um-mens-basketball-vs-boston-college-4/
LOCATION:Watsco Center\, 1245 Dauer Drive \, Miami\, FL\, 33146\, United States
CATEGORIES:College Basketball
ATTACH;FMTTYPE=image/jpeg:https://watscocenter.com/wp-content/uploads/2020/12/Home-.jpg
END:VEVENT
BEGIN:VEVENT
DTSTART;TZID=America/Halifax:20230115T140000
DTEND;TZID=America/Halifax:20230115T160000
DTSTAMP:20260422T194103
CREATED:20220921T182911Z
LAST-MODIFIED:20220929T141152Z
UID:4725-1673791200-1673798400@watscocenter.com
SUMMARY:UM Women's Basketball vs. Wake Forest
DESCRIPTION:
URL:https://watscocenter.com/event/um-womens-basketball-vs-wake-forest-5/
LOCATION:Watsco Center\, 1245 Dauer Drive \, Miami\, FL\, 33146\, United States
CATEGORIES:College Basketball
ATTACH;FMTTYPE=image/jpeg:https://watscocenter.com/wp-content/uploads/2020/12/Home-.jpg
END:VEVENT
BEGIN:VEVENT
DTSTART;TZID=America/Halifax:20230116T190000
DTEND;TZID=America/Halifax:20230116T210000
DTSTAMP:20260422T194103
CREATED:20220921T183238Z
LAST-MODIFIED:20220929T141048Z
UID:4727-1673895600-1673902800@watscocenter.com
SUMMARY:UM Men's Basketball vs. Syracuse
DESCRIPTION:
URL:https://watscocenter.com/event/um-mens-basketball-vs-syracuse-4/
LOCATION:Watsco Center\, 1245 Dauer Drive \, Miami\, FL\, 33146\, United States
CATEGORIES:College Basketball
ATTACH;FMTTYPE=image/jpeg:https://watscocenter.com/wp-content/uploads/2020/12/Home-.jpg
END:VEVENT
BEGIN:VEVENT
DTSTART;TZID=America/Halifax:20230126T180000
DTEND;TZID=America/Halifax:20230126T200000
DTSTAMP:20260422T194103
CREATED:20220921T184012Z
LAST-MODIFIED:20220929T141008Z
UID:4729-1674756000-1674763200@watscocenter.com
SUMMARY:UM Women's Basketball vs. Boston College
DESCRIPTION:
URL:https://watscocenter.com/event/um-womens-basketball-vs-boston-college-3/
LOCATION:Watsco Center\, 1245 Dauer Drive \, Miami\, FL\, 33146\, United States
CATEGORIES:College Basketball
ATTACH;FMTTYPE=image/jpeg:https://watscocenter.com/wp-content/uploads/2020/12/Home-.jpg
END:VEVENT
BEGIN:VEVENT
DTSTART;TZID=America/Halifax:20230131T190000
DTEND;TZID=America/Halifax:20230131T210000
DTSTAMP:20260422T194103
CREATED:20220921T184224Z
LAST-MODIFIED:20230117T203540Z
UID:4731-1675191600-1675198800@watscocenter.com
SUMMARY:UM Men's Basketball vs. Virginia Tech
DESCRIPTION:
URL:https://watscocenter.com/event/um-mens-basketball-vs-virginia-tech-5/
LOCATION:Watsco Center\, 1245 Dauer Drive \, Miami\, FL\, 33146\, United States
CATEGORIES:College Basketball
ATTACH;FMTTYPE=image/jpeg:https://watscocenter.com/wp-content/uploads/2020/12/Home-.jpg
END:VEVENT
END:VCALENDAR