BEGIN:VCALENDAR
VERSION:2.0
PRODID:-//Watsco Center - ECPv6.15.13.1//NONSGML v1.0//EN
CALSCALE:GREGORIAN
METHOD:PUBLISH
X-WR-CALNAME:Watsco Center
X-ORIGINAL-URL:https://watscocenter.com
X-WR-CALDESC:Events for Watsco Center
REFRESH-INTERVAL;VALUE=DURATION:PT1H
X-Robots-Tag:noindex
X-PUBLISHED-TTL:PT1H
BEGIN:VTIMEZONE
TZID:America/Halifax
BEGIN:DAYLIGHT
TZOFFSETFROM:-0400
TZOFFSETTO:-0300
TZNAME:ADT
DTSTART:20220313T060000
END:DAYLIGHT
BEGIN:STANDARD
TZOFFSETFROM:-0300
TZOFFSETTO:-0400
TZNAME:AST
DTSTART:20221106T050000
END:STANDARD
BEGIN:DAYLIGHT
TZOFFSETFROM:-0400
TZOFFSETTO:-0300
TZNAME:ADT
DTSTART:20230312T060000
END:DAYLIGHT
BEGIN:STANDARD
TZOFFSETFROM:-0300
TZOFFSETTO:-0400
TZNAME:AST
DTSTART:20231105T050000
END:STANDARD
BEGIN:DAYLIGHT
TZOFFSETFROM:-0400
TZOFFSETTO:-0300
TZNAME:ADT
DTSTART:20240310T060000
END:DAYLIGHT
BEGIN:STANDARD
TZOFFSETFROM:-0300
TZOFFSETTO:-0400
TZNAME:AST
DTSTART:20241103T050000
END:STANDARD
END:VTIMEZONE
BEGIN:VEVENT
DTSTART;TZID=America/Halifax:20230205T120000
DTEND;TZID=America/Halifax:20230205T140000
DTSTAMP:20260422T173217
CREATED:20220921T184403Z
LAST-MODIFIED:20220929T140858Z
UID:4733-1675598400-1675605600@watscocenter.com
SUMMARY:UM Women's Basketball vs. Georgia Tech
DESCRIPTION:
URL:https://watscocenter.com/event/um-womens-basketball-vs-georgia-tech-4/
LOCATION:Watsco Center\, 1245 Dauer Drive \, Miami\, FL\, 33146\, United States
CATEGORIES:College Basketball
ATTACH;FMTTYPE=image/jpeg:https://watscocenter.com/wp-content/uploads/2020/12/Home-.jpg
END:VEVENT
BEGIN:VEVENT
DTSTART;TZID=America/Halifax:20230206T190000
DTEND;TZID=America/Halifax:20230206T210000
DTSTAMP:20260422T173217
CREATED:20220921T184708Z
LAST-MODIFIED:20220929T140820Z
UID:4735-1675710000-1675717200@watscocenter.com
SUMMARY:UM Men's Basketball vs. Duke
DESCRIPTION:
URL:https://watscocenter.com/event/um-mens-basketball-vs-duke-3/
LOCATION:Watsco Center\, 1245 Dauer Drive \, Miami\, FL\, 33146\, United States
CATEGORIES:College Basketball
ATTACH;FMTTYPE=image/jpeg:https://watscocenter.com/wp-content/uploads/2020/12/Home-.jpg
END:VEVENT
BEGIN:VEVENT
DTSTART;TZID=America/Halifax:20230209T180000
DTEND;TZID=America/Halifax:20230209T200000
DTSTAMP:20260422T173217
CREATED:20220921T184854Z
LAST-MODIFIED:20220929T140747Z
UID:4737-1675965600-1675972800@watscocenter.com
SUMMARY:UM Women's Basketball vs. Florida State
DESCRIPTION:
URL:https://watscocenter.com/event/um-womens-basketball-vs-florida-state-5/
LOCATION:Watsco Center\, 1245 Dauer Drive \, Miami\, FL\, 33146\, United States
CATEGORIES:College Basketball
ATTACH;FMTTYPE=image/jpeg:https://watscocenter.com/wp-content/uploads/2020/12/Home-.jpg
END:VEVENT
BEGIN:VEVENT
DTSTART;TZID=America/Halifax:20230211T190000
DTEND;TZID=America/Halifax:20230211T210000
DTSTAMP:20260422T173217
CREATED:20220921T190551Z
LAST-MODIFIED:20220929T140710Z
UID:4739-1676142000-1676149200@watscocenter.com
SUMMARY:UM Men's Basketball vs. Louisville
DESCRIPTION:
URL:https://watscocenter.com/event/um-mens-basketball-vs-louisville-3/
LOCATION:Watsco Center\, 1245 Dauer Drive \, Miami\, FL\, 33146\, United States
CATEGORIES:College Basketball
ATTACH;FMTTYPE=image/jpeg:https://watscocenter.com/wp-content/uploads/2020/12/Home-.jpg
END:VEVENT
BEGIN:VEVENT
DTSTART;TZID=America/Halifax:20230216T180000
DTEND;TZID=America/Halifax:20230216T200000
DTSTAMP:20260422T173217
CREATED:20220921T190731Z
LAST-MODIFIED:20220929T140527Z
UID:4741-1676570400-1676577600@watscocenter.com
SUMMARY:UM Women's Basketball vs. Clemson
DESCRIPTION:
URL:https://watscocenter.com/event/um-womens-basketball-vs-clemson-4/
LOCATION:Watsco Center\, 1245 Dauer Drive \, Miami\, FL\, 33146\, United States
CATEGORIES:College Basketball
ATTACH;FMTTYPE=image/jpeg:https://watscocenter.com/wp-content/uploads/2020/12/Home-.jpg
END:VEVENT
BEGIN:VEVENT
DTSTART;TZID=America/Halifax:20230218T140000
DTEND;TZID=America/Halifax:20230218T160000
DTSTAMP:20260422T173217
CREATED:20220921T190855Z
LAST-MODIFIED:20220929T140450Z
UID:4743-1676728800-1676736000@watscocenter.com
SUMMARY:UM Men's Basketball vs. Wake Forest
DESCRIPTION:
URL:https://watscocenter.com/event/um-mens-basketball-vs-wake-forest-4/
LOCATION:Watsco Center\, 1245 Dauer Drive \, Miami\, FL\, 33146\, United States
CATEGORIES:College Basketball
ATTACH;FMTTYPE=image/jpeg:https://watscocenter.com/wp-content/uploads/2020/12/Home-.jpg
END:VEVENT
BEGIN:VEVENT
DTSTART;VALUE=DATE:20230225
DTEND;VALUE=DATE:20230226
DTSTAMP:20260422T173217
CREATED:20220921T191025Z
LAST-MODIFIED:20220921T191025Z
UID:4745-1677283200-1677369599@watscocenter.com
SUMMARY:UM Men's Basketball vs. Florida State
DESCRIPTION:
URL:https://watscocenter.com/event/um-mens-basketball-vs-florida-state-5/
LOCATION:Watsco Center\, 1245 Dauer Drive \, Miami\, FL\, 33146\, United States
CATEGORIES:College Basketball
ATTACH;FMTTYPE=image/jpeg:https://watscocenter.com/wp-content/uploads/2020/12/Home-.jpg
END:VEVENT
BEGIN:VEVENT
DTSTART;TZID=America/Halifax:20230226T120000
DTEND;TZID=America/Halifax:20230226T140000
DTSTAMP:20260422T173217
CREATED:20220921T191402Z
LAST-MODIFIED:20220929T140407Z
UID:4747-1677412800-1677420000@watscocenter.com
SUMMARY:UM Women's Basketball vs. Virginia
DESCRIPTION:
URL:https://watscocenter.com/event/um-womens-basketball-vs-virginia/
LOCATION:Watsco Center\, 1245 Dauer Drive \, Miami\, FL\, 33146\, United States
CATEGORIES:College Basketball
ATTACH;FMTTYPE=image/jpeg:https://watscocenter.com/wp-content/uploads/2020/12/Home-.jpg
END:VEVENT
END:VCALENDAR