BEGIN:VCALENDAR
VERSION:2.0
PRODID:-//Watsco Center - ECPv6.15.13.1//NONSGML v1.0//EN
CALSCALE:GREGORIAN
METHOD:PUBLISH
X-ORIGINAL-URL:https://watscocenter.com
X-WR-CALDESC:Events for Watsco Center
REFRESH-INTERVAL;VALUE=DURATION:PT1H
X-Robots-Tag:noindex
X-PUBLISHED-TTL:PT1H
BEGIN:VTIMEZONE
TZID:UTC
BEGIN:STANDARD
TZOFFSETFROM:+0000
TZOFFSETTO:+0000
TZNAME:UTC
DTSTART:20200101T000000
END:STANDARD
END:VTIMEZONE
BEGIN:VEVENT
DTSTART;TZID=UTC:20211221T150000
DTEND;TZID=UTC:20211221T180000
DTSTAMP:20260424T061223
CREATED:20211001T184308Z
LAST-MODIFIED:20211001T184308Z
UID:4481-1640098800-1640109600@watscocenter.com
SUMMARY:UM Women's Basketball vs. North Florida
DESCRIPTION:
URL:https://watscocenter.com/event/um-womens-basketball-vs-north-florida-2/
LOCATION:Watsco Center\, 1245 Dauer Drive \, Miami\, FL\, 33146\, United States
CATEGORIES:College Basketball
ATTACH;FMTTYPE=image/jpeg:https://watscocenter.com/wp-content/uploads/2020/12/Home-.jpg
END:VEVENT
END:VCALENDAR