BEGIN:VCALENDAR
VERSION:2.0
PRODID:-//Watsco Center - ECPv6.15.13.1//NONSGML v1.0//EN
CALSCALE:GREGORIAN
METHOD:PUBLISH
X-WR-CALNAME:Watsco Center
X-ORIGINAL-URL:https://watscocenter.com
X-WR-CALDESC:Events for Watsco Center
REFRESH-INTERVAL;VALUE=DURATION:PT1H
X-Robots-Tag:noindex
X-PUBLISHED-TTL:PT1H
BEGIN:VTIMEZONE
TZID:America/Halifax
BEGIN:DAYLIGHT
TZOFFSETFROM:-0400
TZOFFSETTO:-0300
TZNAME:ADT
DTSTART:20210314T060000
END:DAYLIGHT
BEGIN:STANDARD
TZOFFSETFROM:-0300
TZOFFSETTO:-0400
TZNAME:AST
DTSTART:20211107T050000
END:STANDARD
BEGIN:DAYLIGHT
TZOFFSETFROM:-0400
TZOFFSETTO:-0300
TZNAME:ADT
DTSTART:20220313T060000
END:DAYLIGHT
BEGIN:STANDARD
TZOFFSETFROM:-0300
TZOFFSETTO:-0400
TZNAME:AST
DTSTART:20221106T050000
END:STANDARD
BEGIN:DAYLIGHT
TZOFFSETFROM:-0400
TZOFFSETTO:-0300
TZNAME:ADT
DTSTART:20230312T060000
END:DAYLIGHT
BEGIN:STANDARD
TZOFFSETFROM:-0300
TZOFFSETTO:-0400
TZNAME:AST
DTSTART:20231105T050000
END:STANDARD
END:VTIMEZONE
BEGIN:VEVENT
DTSTART;TZID=America/Halifax:20221125T130000
DTEND;TZID=America/Halifax:20221125T150000
DTSTAMP:20260423T010207
CREATED:20220920T192122Z
LAST-MODIFIED:20220929T143919Z
UID:4695-1669381200-1669388400@watscocenter.com
SUMMARY:Arkansas Pine-Bluff vs. Columbia (WBB)
DESCRIPTION:
URL:https://watscocenter.com/event/arkansas-pine-bluff-vs-columbia-wbb/
LOCATION:Watsco Center\, 1245 Dauer Drive \, Miami\, FL\, 33146\, United States
CATEGORIES:College Basketball
ATTACH;FMTTYPE=image/jpeg:https://watscocenter.com/wp-content/uploads/2020/12/Home-.jpg
END:VEVENT
BEGIN:VEVENT
DTSTART;TZID=America/Halifax:20221125T150000
DTEND;TZID=America/Halifax:20221125T170000
DTSTAMP:20260423T010207
CREATED:20220920T191849Z
LAST-MODIFIED:20220929T144022Z
UID:4693-1669388400-1669395600@watscocenter.com
SUMMARY:UM Women's Basketball vs. North Carolina A&T
DESCRIPTION:
URL:https://watscocenter.com/event/um-womens-basketball-vs-north-carolina-at/
LOCATION:Watsco Center\, 1245 Dauer Drive \, Miami\, FL\, 33146\, United States
CATEGORIES:College Basketball
ATTACH;FMTTYPE=image/jpeg:https://watscocenter.com/wp-content/uploads/2020/12/Home-.jpg
END:VEVENT
END:VCALENDAR