BEGIN:VCALENDAR
VERSION:2.0
PRODID:-//Watsco Center - ECPv6.15.13.1//NONSGML v1.0//EN
CALSCALE:GREGORIAN
METHOD:PUBLISH
X-ORIGINAL-URL:https://watscocenter.com
X-WR-CALDESC:Events for Watsco Center
REFRESH-INTERVAL;VALUE=DURATION:PT1H
X-Robots-Tag:noindex
X-PUBLISHED-TTL:PT1H
BEGIN:VTIMEZONE
TZID:UTC
BEGIN:STANDARD
TZOFFSETFROM:+0000
TZOFFSETTO:+0000
TZNAME:UTC
DTSTART:20210101T000000
END:STANDARD
END:VTIMEZONE
BEGIN:VEVENT
DTSTART;TZID=UTC:20220325T193000
DTEND;TZID=UTC:20220325T235900
DTSTAMP:20260424T131024
CREATED:20220117T211416Z
LAST-MODIFIED:20220216T203542Z
UID:4528-1648236600-1648252740@watscocenter.com
SUMMARY:Katt Williams World War III Tour
DESCRIPTION:
URL:https://watscocenter.com/event/katt-williams-world-war-iii-tour/
LOCATION:Watsco Center\, 1245 Dauer Drive \, Miami\, FL\, 33146\, United States
CATEGORIES:Comedy
ATTACH;FMTTYPE=image/jpeg:https://watscocenter.com/wp-content/uploads/2022/01/Katt-Watsco-Center-Horizontal.jpg
END:VEVENT
END:VCALENDAR