BEGIN:VCALENDAR
VERSION:2.0
PRODID:-//Watsco Center - ECPv6.15.13.1//NONSGML v1.0//EN
CALSCALE:GREGORIAN
METHOD:PUBLISH
X-ORIGINAL-URL:https://watscocenter.com
X-WR-CALDESC:Events for Watsco Center
REFRESH-INTERVAL;VALUE=DURATION:PT1H
X-Robots-Tag:noindex
X-PUBLISHED-TTL:PT1H
BEGIN:VTIMEZONE
TZID:UTC
BEGIN:STANDARD
TZOFFSETFROM:+0000
TZOFFSETTO:+0000
TZNAME:UTC
DTSTART:20170101T000000
END:STANDARD
END:VTIMEZONE
BEGIN:VEVENT
DTSTART;TZID=UTC:20181128T191500
DTEND;TZID=UTC:20181128T191500
DTSTAMP:20260425T000505
CREATED:20181029T225911Z
LAST-MODIFIED:20181029T225911Z
UID:3593-1543432500-1543432500@watscocenter.com
SUMMARY:Men's Basketball vs. Rutgers (ACC/BIG TEN CHALLENGE)
DESCRIPTION:
URL:https://watscocenter.com/event/mens-basketball-vs-rutgers-accbig-ten-challenge/
LOCATION:Watsco Center\, 1245 Dauer Drive \, Miami\, FL\, 33146\, United States
CATEGORIES:Games
ATTACH;FMTTYPE=image/jpeg:https://watscocenter.com/wp-content/uploads/2018/10/11-28.jpg
END:VEVENT
END:VCALENDAR