BEGIN:VCALENDAR
VERSION:2.0
PRODID:-//Watsco Center - ECPv6.15.13.1//NONSGML v1.0//EN
CALSCALE:GREGORIAN
METHOD:PUBLISH
X-WR-CALNAME:Watsco Center
X-ORIGINAL-URL:https://watscocenter.com
X-WR-CALDESC:Events for Watsco Center
REFRESH-INTERVAL;VALUE=DURATION:PT1H
X-Robots-Tag:noindex
X-PUBLISHED-TTL:PT1H
BEGIN:VTIMEZONE
TZID:UTC
BEGIN:STANDARD
TZOFFSETFROM:+0000
TZOFFSETTO:+0000
TZNAME:UTC
DTSTART:20160101T000000
END:STANDARD
END:VTIMEZONE
BEGIN:VEVENT
DTSTART;TZID=UTC:20170608T140000
DTEND;TZID=UTC:20170608T140000
DTSTAMP:20260420T005634
CREATED:20170515T224408Z
LAST-MODIFIED:20170515T224408Z
UID:2793-1496930400-1496930400@watscocenter.com
SUMMARY:Miami Coral Park Senior High School Graduation
DESCRIPTION:
URL:https://watscocenter.com/event/miami-coral-park-senior-high-school-graduation/
LOCATION:Watsco Center\, 1245 Dauer Drive \, Miami\, FL\, 33146\, United States
CATEGORIES:Graduation
ATTACH;FMTTYPE=image/png:https://watscocenter.com/wp-content/uploads/2017/05/Miami_Dade_county_logo_2014-01-30_18-05.png
END:VEVENT
BEGIN:VEVENT
DTSTART;TZID=UTC:20170607T020000
DTEND;TZID=UTC:20170607T140000
DTSTAMP:20260420T005634
CREATED:20170515T224055Z
LAST-MODIFIED:20170515T224111Z
UID:2789-1496800800-1496844000@watscocenter.com
SUMMARY:Southwest Miami Senior High School Graduation
DESCRIPTION:
URL:https://watscocenter.com/event/southwest-miami-senior-high-school-graduation/
LOCATION:Watsco Center\, 1245 Dauer Drive \, Miami\, FL\, 33146\, United States
CATEGORIES:Graduation
ATTACH;FMTTYPE=image/png:https://watscocenter.com/wp-content/uploads/2017/05/Miami_Dade_county_logo_2014-01-30_18-05.png
END:VEVENT
BEGIN:VEVENT
DTSTART;TZID=UTC:20170606T200000
DTEND;TZID=UTC:20170606T200000
DTSTAMP:20260420T005634
CREATED:20170515T223952Z
LAST-MODIFIED:20170515T223952Z
UID:2787-1496779200-1496779200@watscocenter.com
SUMMARY:Coral Reef Senior High School Graduation
DESCRIPTION:
URL:https://watscocenter.com/event/coral-reef-senior-high-school-graduation/
LOCATION:Watsco Center\, 1245 Dauer Drive \, Miami\, FL\, 33146\, United States
CATEGORIES:Graduation
ATTACH;FMTTYPE=image/png:https://watscocenter.com/wp-content/uploads/2017/05/Miami_Dade_county_logo_2014-01-30_18-05.png
END:VEVENT
BEGIN:VEVENT
DTSTART;TZID=UTC:20170606T140000
DTEND;TZID=UTC:20170606T140000
DTSTAMP:20260420T005634
CREATED:20170515T223811Z
LAST-MODIFIED:20170515T223811Z
UID:2785-1496757600-1496757600@watscocenter.com
SUMMARY:South Dade Senior High School Graduation
DESCRIPTION:
URL:https://watscocenter.com/event/south-dade-senior-high-school-graduation/
LOCATION:Watsco Center\, 1245 Dauer Drive \, Miami\, FL\, 33146\, United States
CATEGORIES:Graduation
ATTACH;FMTTYPE=image/png:https://watscocenter.com/wp-content/uploads/2017/05/Miami_Dade_county_logo_2014-01-30_18-05.png
END:VEVENT
BEGIN:VEVENT
DTSTART;TZID=UTC:20170605T200000
DTEND;TZID=UTC:20170605T200000
DTSTAMP:20260420T005634
CREATED:20170515T223652Z
LAST-MODIFIED:20170515T223652Z
UID:2783-1496692800-1496692800@watscocenter.com
SUMMARY:John A. Ferguson Senior High School Graduation
DESCRIPTION:
URL:https://watscocenter.com/event/john-a-ferguson-senior-high-school-graduation/
LOCATION:Watsco Center\, 1245 Dauer Drive \, Miami\, FL\, 33146\, United States
CATEGORIES:Graduation
ATTACH;FMTTYPE=image/png:https://watscocenter.com/wp-content/uploads/2017/05/Miami_Dade_county_logo_2014-01-30_18-05.png
END:VEVENT
BEGIN:VEVENT
DTSTART;TZID=UTC:20170605T140000
DTEND;TZID=UTC:20170605T140000
DTSTAMP:20260420T005634
CREATED:20170515T223454Z
LAST-MODIFIED:20170515T223454Z
UID:2781-1496671200-1496671200@watscocenter.com
SUMMARY:Miami Palmetto Senior High School Graduation
DESCRIPTION:
URL:https://watscocenter.com/event/miami-palmetto-senior-high-school-graduation/
LOCATION:Watsco Center\, 1245 Dauer Drive \, Miami\, FL\, 33146\, United States
CATEGORIES:Graduation
ATTACH;FMTTYPE=image/png:https://watscocenter.com/wp-content/uploads/2017/05/Miami_Dade_county_logo_2014-01-30_18-05.png
END:VEVENT
BEGIN:VEVENT
DTSTART;TZID=UTC:20170603T100000
DTEND;TZID=UTC:20170603T100000
DTSTAMP:20260420T005634
CREATED:20170515T231108Z
LAST-MODIFIED:20170515T231249Z
UID:2802-1496484000-1496484000@watscocenter.com
SUMMARY:Doral Academy Graduation
DESCRIPTION:Eight Grade Middle School Graduation – 10am \nHigh School Graduation – 2pm \n 
URL:https://watscocenter.com/event/doral-academy-graduation/
LOCATION:FL
CATEGORIES:Graduation
ATTACH;FMTTYPE=image/png:https://watscocenter.com/wp-content/uploads/2017/05/mza_3855130057369659823.png
END:VEVENT
BEGIN:VEVENT
DTSTART;TZID=UTC:20170602T200000
DTEND;TZID=UTC:20170602T200000
DTSTAMP:20260420T005634
CREATED:20170515T230638Z
LAST-MODIFIED:20170515T230638Z
UID:2799-1496433600-1496433600@watscocenter.com
SUMMARY:Mater Academy Graduation
DESCRIPTION:
URL:https://watscocenter.com/event/mater-academy-graduation/
LOCATION:Watsco Center\, 1245 Dauer Drive \, Miami\, FL\, 33146\, United States
CATEGORIES:Graduation
ATTACH;FMTTYPE=image/png:https://watscocenter.com/wp-content/uploads/2017/05/Picture_1.png
END:VEVENT
BEGIN:VEVENT
DTSTART;TZID=UTC:20170602T140000
DTEND;TZID=UTC:20170602T140000
DTSTAMP:20260420T005634
CREATED:20170515T215433Z
LAST-MODIFIED:20170515T215433Z
UID:2779-1496412000-1496412000@watscocenter.com
SUMMARY:Hialeah Senior High School Graduation
DESCRIPTION:
URL:https://watscocenter.com/event/hialeah-senior-high-school-graduation/
LOCATION:Watsco Center\, 1245 Dauer Drive \, Miami\, FL\, 33146\, United States
CATEGORIES:Graduation
ATTACH;FMTTYPE=image/png:https://watscocenter.com/wp-content/uploads/2017/05/Miami_Dade_county_logo_2014-01-30_18-05.png
END:VEVENT
BEGIN:VEVENT
DTSTART;TZID=UTC:20170602T090000
DTEND;TZID=UTC:20170602T090000
DTSTAMP:20260420T005634
CREATED:20170515T215057Z
LAST-MODIFIED:20170515T215322Z
UID:2777-1496394000-1496394000@watscocenter.com
SUMMARY:Miami Beach Senior High School Graduation
DESCRIPTION:
URL:https://watscocenter.com/event/miami-beach-senior-high-school-graduation/
LOCATION:Watsco Center\, 1245 Dauer Drive \, Miami\, FL\, 33146\, United States
CATEGORIES:Graduation
ATTACH;FMTTYPE=image/png:https://watscocenter.com/wp-content/uploads/2017/05/Miami_Dade_county_logo_2014-01-30_18-05.png
END:VEVENT
BEGIN:VEVENT
DTSTART;TZID=UTC:20170601T200000
DTEND;TZID=UTC:20170601T200000
DTSTAMP:20260420T005634
CREATED:20170515T214731Z
LAST-MODIFIED:20170515T214731Z
UID:2775-1496347200-1496347200@watscocenter.com
SUMMARY:Felix Varela Senior High School Graduation
DESCRIPTION:
URL:https://watscocenter.com/event/felix-varela-senior-high-school-graduation/
LOCATION:Watsco Center\, 1245 Dauer Drive \, Miami\, FL\, 33146\, United States
CATEGORIES:Graduation
ATTACH;FMTTYPE=image/png:https://watscocenter.com/wp-content/uploads/2017/05/Miami_Dade_county_logo_2014-01-30_18-05.png
END:VEVENT
BEGIN:VEVENT
DTSTART;TZID=UTC:20170601T140000
DTEND;TZID=UTC:20170601T140000
DTSTAMP:20260420T005634
CREATED:20170515T213358Z
LAST-MODIFIED:20170515T213358Z
UID:2773-1496325600-1496325600@watscocenter.com
SUMMARY:North Miami Senior High School Graduation
DESCRIPTION:
URL:https://watscocenter.com/event/north-miami-senior-high-school-graduation/
LOCATION:Watsco Center\, 1245 Dauer Drive \, Miami\, FL\, 33146\, United States
CATEGORIES:Graduation
ATTACH;FMTTYPE=image/png:https://watscocenter.com/wp-content/uploads/2017/05/Miami_Dade_county_logo_2014-01-30_18-05.png
END:VEVENT
BEGIN:VEVENT
DTSTART;TZID=UTC:20170531T200000
DTEND;TZID=UTC:20170531T200000
DTSTAMP:20260420T005634
CREATED:20170515T212948Z
LAST-MODIFIED:20170515T213418Z
UID:2771-1496260800-1496260800@watscocenter.com
SUMMARY:G. Holmes Braddock Senior High School Graduation
DESCRIPTION:
URL:https://watscocenter.com/event/g-holmes-braddock-senior-high-school-graduation/
LOCATION:Watsco Center\, 1245 Dauer Drive \, Miami\, FL\, 33146\, United States
CATEGORIES:Graduation
ATTACH;FMTTYPE=image/png:https://watscocenter.com/wp-content/uploads/2017/05/Miami_Dade_county_logo_2014-01-30_18-05.png
END:VEVENT
BEGIN:VEVENT
DTSTART;TZID=UTC:20170531T140000
DTEND;TZID=UTC:20170531T140000
DTSTAMP:20260420T005634
CREATED:20170515T212300Z
LAST-MODIFIED:20170515T212300Z
UID:2768-1496239200-1496239200@watscocenter.com
SUMMARY:Coral Gables Senior High School Graduation
DESCRIPTION:
URL:https://watscocenter.com/event/coral-gables-senior-high-school-graduation/
LOCATION:Watsco Center\, 1245 Dauer Drive \, Miami\, FL\, 33146\, United States
CATEGORIES:Graduation
ATTACH;FMTTYPE=image/png:https://watscocenter.com/wp-content/uploads/2017/05/Miami_Dade_county_logo_2014-01-30_18-05.png
END:VEVENT
BEGIN:VEVENT
DTSTART;TZID=UTC:20170525T180000
DTEND;TZID=UTC:20170525T180000
DTSTAMP:20260420T005634
CREATED:20170515T211208Z
LAST-MODIFIED:20170515T211208Z
UID:2765-1495735200-1495735200@watscocenter.com
SUMMARY:Our Lady of Lourdes Academy Graduation
DESCRIPTION:
URL:https://watscocenter.com/event/our-lady-of-lourdes-academy-graduation/
LOCATION:Watsco Center\, 1245 Dauer Drive \, Miami\, FL\, 33146\, United States
CATEGORIES:Graduation
ATTACH;FMTTYPE=image/png:https://watscocenter.com/wp-content/uploads/2017/05/SchoolSeal.png
END:VEVENT
BEGIN:VEVENT
DTSTART;TZID=UTC:20170524T140000
DTEND;TZID=UTC:20170524T140000
DTSTAMP:20260420T005634
CREATED:20170524T175630Z
LAST-MODIFIED:20170524T175630Z
UID:2807-1495634400-1495634400@watscocenter.com
SUMMARY:Gulliver Preparatory Graduation
DESCRIPTION:
URL:https://watscocenter.com/event/gulliver-preparatory-graduation/
LOCATION:Watsco Center\, 1245 Dauer Drive \, Miami\, FL\, 33146\, United States
CATEGORIES:Graduation
ATTACH;FMTTYPE=image/png:https://watscocenter.com/wp-content/uploads/2017/05/gullivershield.png
END:VEVENT
BEGIN:VEVENT
DTSTART;TZID=UTC:20170523T080000
DTEND;TZID=UTC:20170523T080000
DTSTAMP:20260420T005634
CREATED:20170515T205850Z
LAST-MODIFIED:20170515T210610Z
UID:2762-1495526400-1495526400@watscocenter.com
SUMMARY:Sunset Elementary Graduation Ceremony
DESCRIPTION:
URL:https://watscocenter.com/event/sunset-elementary-graduation-ceremony/
LOCATION:Fieldhouse Watsco Center\, 1245 Dauer Drive\, Coral Gables\, FL\, 33146
CATEGORIES:Graduation
ATTACH;FMTTYPE=image/jpeg:https://watscocenter.com/wp-content/uploads/2017/05/download.jpg
END:VEVENT
END:VCALENDAR