BEGIN:VCALENDAR
VERSION:2.0
PRODID:-//Watsco Center - ECPv6.15.13.1//NONSGML v1.0//EN
CALSCALE:GREGORIAN
METHOD:PUBLISH
X-WR-CALNAME:Watsco Center
X-ORIGINAL-URL:https://watscocenter.com
X-WR-CALDESC:Events for Watsco Center
REFRESH-INTERVAL;VALUE=DURATION:PT1H
X-Robots-Tag:noindex
X-PUBLISHED-TTL:PT1H
BEGIN:VTIMEZONE
TZID:America/New_York
BEGIN:DAYLIGHT
TZOFFSETFROM:-0500
TZOFFSETTO:-0400
TZNAME:EDT
DTSTART:20250309T070000
END:DAYLIGHT
BEGIN:STANDARD
TZOFFSETFROM:-0400
TZOFFSETTO:-0500
TZNAME:EST
DTSTART:20251102T060000
END:STANDARD
BEGIN:DAYLIGHT
TZOFFSETFROM:-0500
TZOFFSETTO:-0400
TZNAME:EDT
DTSTART:20260308T070000
END:DAYLIGHT
BEGIN:STANDARD
TZOFFSETFROM:-0400
TZOFFSETTO:-0500
TZNAME:EST
DTSTART:20261101T060000
END:STANDARD
BEGIN:DAYLIGHT
TZOFFSETFROM:-0500
TZOFFSETTO:-0400
TZNAME:EDT
DTSTART:20270314T070000
END:DAYLIGHT
BEGIN:STANDARD
TZOFFSETFROM:-0400
TZOFFSETTO:-0500
TZNAME:EST
DTSTART:20271107T060000
END:STANDARD
END:VTIMEZONE
BEGIN:VEVENT
DTSTART;TZID=America/New_York:20260201T140000
DTEND;TZID=America/New_York:20260201T140000
DTSTAMP:20260424T094021
CREATED:20251222T211452Z
LAST-MODIFIED:20251222T221042Z
UID:5448-1769954400-1769954400@watscocenter.com
SUMMARY:UM Women's Basketball vs. Syracuse
DESCRIPTION:For season tickets\, premium tickets\, ticket packages and student claim tickets\, click here.
URL:https://watscocenter.com/event/um-womens-basketball-vs-syracuse-6/
LOCATION:Watsco Center\, 1245 Dauer Drive \, Miami\, FL\, 33146\, United States
CATEGORIES:College Basketball
ATTACH;FMTTYPE=image/jpeg:https://watscocenter.com/wp-content/uploads/2025/12/UofM-Basketball-2.jpg
END:VEVENT
BEGIN:VEVENT
DTSTART;TZID=America/New_York:20260210T190000
DTEND;TZID=America/New_York:20260210T190000
DTSTAMP:20260424T094021
CREATED:20251222T211754Z
LAST-MODIFIED:20251222T221100Z
UID:5450-1770750000-1770750000@watscocenter.com
SUMMARY:UM Men's Basketball vs. North Carolina
DESCRIPTION:For season tickets\, premium tickets\, ticket packages and student claim tickets\, click here.
URL:https://watscocenter.com/event/um-mens-basketball-vs-north-carolina-3/
LOCATION:Watsco Center\, 1245 Dauer Drive \, Miami\, FL\, 33146\, United States
CATEGORIES:College Basketball
ATTACH;FMTTYPE=image/jpeg:https://watscocenter.com/wp-content/uploads/2025/12/UofM-Basketball-1.jpg
END:VEVENT
BEGIN:VEVENT
DTSTART;TZID=America/New_York:20260213T200000
DTEND;TZID=America/New_York:20260213T230000
DTSTAMP:20260424T094021
CREATED:20251125T205209Z
LAST-MODIFIED:20260130T153936Z
UID:5411-1771012800-1771023600@watscocenter.com
SUMMARY:NOCHE ROMANTICA' FT. CHARLIE ZAA / EL PUMA
DESCRIPTION:Noche Romantica\, previously scheduled for February 13\, has been postponed\, and a new date will be announced as soon as possible. Existing buyers will be automatically refunded. Please reach out to your point of purchase with any questions about your automatic refund. \nLa Noche Romántica del 13/2 se ha pospuesto y se anunciará una nueva fecha lo antes posible. Los compradores actuales recibirán un reembolso automático. Si tiene alguna pregunta sobre su reembolso automático\, comuníquese con su punto de compra.
URL:https://watscocenter.com/event/noche-romantica-ft-charlie-zaa-el-puma/
LOCATION:Watsco Center\, 1245 Dauer Drive \, Miami\, FL\, 33146\, United States
CATEGORIES:Concert,Home Slider
ATTACH;FMTTYPE=image/jpeg:https://watscocenter.com/wp-content/uploads/2025/11/e394a385-9cf7-4bb0-a6eb-ead88c4c4924_SOURCE.jpg
END:VEVENT
BEGIN:VEVENT
DTSTART;TZID=America/New_York:20260214T203000
DTEND;TZID=America/New_York:20260214T230000
DTSTAMP:20260424T094021
CREATED:20251110T170656Z
LAST-MODIFIED:20251223T154917Z
UID:5406-1771101000-1771110000@watscocenter.com
SUMMARY:UNA NOCHE PARA ENAMORARSE FEATURING LEONI TORRES
DESCRIPTION:
URL:https://watscocenter.com/event/una-noche-para-enamorarse-featuring-leoni-torres/
LOCATION:Watsco Center\, 1245 Dauer Drive \, Miami\, FL\, 33146\, United States
CATEGORIES:Concert,Home Slider
ATTACH;FMTTYPE=image/jpeg:https://watscocenter.com/wp-content/uploads/2025/11/leon-Torres-4-resize-scaled.jpg
END:VEVENT
BEGIN:VEVENT
DTSTART;TZID=America/New_York:20260217T200000
DTEND;TZID=America/New_York:20260217T200000
DTSTAMP:20260424T094021
CREATED:20251222T211957Z
LAST-MODIFIED:20251222T221129Z
UID:5452-1771358400-1771358400@watscocenter.com
SUMMARY:UM Men's Basketball vs. Virginia Tech
DESCRIPTION:For season tickets\, premium tickets\, ticket packages and student claim tickets\, click here.
URL:https://watscocenter.com/event/um-mens-basketball-vs-virginia-tech-8/
LOCATION:Watsco Center\, 1245 Dauer Drive \, Miami\, FL\, 33146\, United States
CATEGORIES:College Basketball
ATTACH;FMTTYPE=image/jpeg:https://watscocenter.com/wp-content/uploads/2025/12/UofM-Basketball-1.jpg
END:VEVENT
BEGIN:VEVENT
DTSTART;TZID=America/New_York:20260219T200000
DTEND;TZID=America/New_York:20260219T200000
DTSTAMP:20260424T094021
CREATED:20251222T212230Z
LAST-MODIFIED:20251222T221143Z
UID:5454-1771531200-1771531200@watscocenter.com
SUMMARY:UM Women's Basketball vs. Stanford
DESCRIPTION:For season tickets\, premium tickets\, ticket packages and student claim tickets\, click here.
URL:https://watscocenter.com/event/um-womens-basketball-vs-stanford/
LOCATION:Watsco Center\, 1245 Dauer Drive \, Miami\, FL\, 33146\, United States
CATEGORIES:College Basketball
ATTACH;FMTTYPE=image/jpeg:https://watscocenter.com/wp-content/uploads/2025/12/UofM-Basketball-2.jpg
END:VEVENT
BEGIN:VEVENT
DTSTART;TZID=America/New_York:20260222T140000
DTEND;TZID=America/New_York:20260222T140000
DTSTAMP:20260424T094021
CREATED:20251222T212427Z
LAST-MODIFIED:20251222T221159Z
UID:5456-1771768800-1771768800@watscocenter.com
SUMMARY:UM Women's Basketball vs. Cal
DESCRIPTION:For season tickets\, premium tickets\, ticket packages and student claim tickets\, click here.
URL:https://watscocenter.com/event/um-womens-basketball-vs-cal/
LOCATION:Watsco Center\, 1245 Dauer Drive \, Miami\, FL\, 33146\, United States
CATEGORIES:College Basketball
ATTACH;FMTTYPE=image/jpeg:https://watscocenter.com/wp-content/uploads/2025/12/UofM-Basketball-2.jpg
END:VEVENT
BEGIN:VEVENT
DTSTART;TZID=America/New_York:20260226T190000
DTEND;TZID=America/New_York:20260226T190000
DTSTAMP:20260424T094021
CREATED:20251222T212707Z
LAST-MODIFIED:20251222T221229Z
UID:5458-1772132400-1772132400@watscocenter.com
SUMMARY:UM Women's Basketball vs. Pittsburgh
DESCRIPTION:For season tickets\, premium tickets\, ticket packages and student claim tickets\, click here.
URL:https://watscocenter.com/event/um-womens-basketball-vs-pittsburgh-5/
LOCATION:Watsco Center\, 1245 Dauer Drive \, Miami\, FL\, 33146\, United States
CATEGORIES:College Basketball
ATTACH;FMTTYPE=image/jpeg:https://watscocenter.com/wp-content/uploads/2025/12/UofM-Basketball-2.jpg
END:VEVENT
BEGIN:VEVENT
DTSTART;TZID=America/New_York:20260228T140000
DTEND;TZID=America/New_York:20260228T140000
DTSTAMP:20260424T094021
CREATED:20251222T212932Z
LAST-MODIFIED:20251222T221243Z
UID:5460-1772287200-1772287200@watscocenter.com
SUMMARY:UM Men's Basketball vs. Boston College
DESCRIPTION:For season tickets\, premium tickets\, ticket packages and student claim tickets\, click here.
URL:https://watscocenter.com/event/um-mens-basketball-vs-boston-college-6/
LOCATION:Watsco Center\, 1245 Dauer Drive \, Miami\, FL\, 33146\, United States
CATEGORIES:College Basketball
ATTACH;FMTTYPE=image/jpeg:https://watscocenter.com/wp-content/uploads/2025/12/UofM-Basketball-1.jpg
END:VEVENT
END:VCALENDAR